BEGIN:VCALENDAR
VERSION:2.0
PRODID:calendify.com
BEGIN:VEVENT
UID:calendify-session-P2ROe7mogQW
DTSTART:20241229T150000Z
SEQUENCE:0
TRANSP:OPAQUE
DTEND:20241229T163000Z
URL:https://calendify.com/session/P2ROe7mogQW
LOCATION:Kidspace - Workshopraum
SUMMARY:Datenschutz und Medienkompetenz für Kinder und Jugendliche am 38C3
CLASS:PUBLIC
DESCRIPTION:https://calendify.com/session/P2ROe7mogQW
DTSTAMP:20260421T110229Z
CREATED:20241227T141514Z
LAST-MODIFIED:20250101T225003Z
END:VEVENT
END:VCALENDAR