BEGIN:VCALENDAR
VERSION:2.0
PRODID:calendify.com
BEGIN:VEVENT
UID:calendify-session-P2ROe7yWgQW
DTSTART:20241228T143000Z
SEQUENCE:0
TRANSP:OPAQUE
DTEND:20241228T144500Z
URL:https://calendify.com/session/P2ROe7yWgQW
LOCATION:Youth Operation Centre Forum (GF1)
SUMMARY:Wie funktioniert eigentlich das Internet?
CLASS:PUBLIC
DESCRIPTION:https://calendify.com/session/P2ROe7yWgQW
DTSTAMP:20260421T135804Z
CREATED:20241227T141507Z
LAST-MODIFIED:20250101T225002Z
END:VEVENT
END:VCALENDAR