BEGIN:VCALENDAR
VERSION:2.0
PRODID:calendify.com
BEGIN:VEVENT
UID:calendify-session-P2ROeD064QW
DTSTART:20190920T180000Z
SEQUENCE:0
TRANSP:OPAQUE
DTEND:20190920T203000Z
URL:https://calendify.com/session/P2ROeD064QW
LOCATION:Großer Saal
SUMMARY:A!Live in Dresden
CLASS:PUBLIC
DESCRIPTION:https://calendify.com/session/P2ROeD064QW
DTSTAMP:20260424T151817Z
CREATED:20200610T174346Z
LAST-MODIFIED:20200610T174346Z
END:VEVENT
END:VCALENDAR