BEGIN:VCALENDAR
VERSION:2.0
PRODID:calendify.com
BEGIN:VEVENT
UID:calendify-session-P2ROeRBlMQW
DTSTART:20211227T190000Z
SEQUENCE:0
TRANSP:OPAQUE
DTEND:20211227T194500Z
URL:https://calendify.com/session/P2ROeRBlMQW
LOCATION:Chaosstudio Hamburg
SUMMARY:Netzwerk Freie Schulsoftware – Schulen helfen Schulen
CLASS:PUBLIC
DESCRIPTION:https://calendify.com/session/P2ROeRBlMQW
DTSTAMP:20260422T163747Z
CREATED:20211220T014016Z
LAST-MODIFIED:20211230T225002Z
END:VEVENT
END:VCALENDAR