BEGIN:VCALENDAR
VERSION:2.0
PRODID:calendify.com
BEGIN:VEVENT
UID:calendify-session-P2ROeRGoMQW
DTSTART:20211228T022500Z
SEQUENCE:0
TRANSP:OPAQUE
DTEND:20211228T042500Z
URL:https://calendify.com/session/P2ROeRGoMQW
LOCATION:Abchillgleis
SUMMARY:#42 + Visuals: WelleUndTeilchen
CLASS:PUBLIC
DESCRIPTION:https://calendify.com/session/P2ROeRGoMQW
DTSTAMP:20260420T220322Z
CREATED:20211226T205000Z
LAST-MODIFIED:20211230T225002Z
END:VEVENT
END:VCALENDAR