BEGIN:VCALENDAR
VERSION:2.0
PRODID:calendify.com
BEGIN:VEVENT
UID:calendify-session-P2ROeRJWMQW
DTSTART:20211229T100000Z
SEQUENCE:0
TRANSP:OPAQUE
DTEND:20211229T112000Z
URL:https://calendify.com/session/P2ROeRJWMQW
LOCATION:r3s - Monheim/Rhein
SUMMARY:Digitale Souveränität nur mit Freier Software!
CLASS:PUBLIC
DESCRIPTION:https://calendify.com/session/P2ROeRJWMQW
DTSTAMP:20260422T135540Z
CREATED:20211220T014017Z
LAST-MODIFIED:20211230T225002Z
END:VEVENT
END:VCALENDAR