BEGIN:VCALENDAR
VERSION:2.0
PRODID:calendify.com
BEGIN:VEVENT
UID:calendify-session-P2ROeRVBMQW
DTSTART:20210318T170000Z
SEQUENCE:0
TRANSP:OPAQUE
DTEND:20210318T180000Z
URL:https://calendify.com/session/P2ROeRVBMQW
LOCATION:Spatial Chat / Social 2
SUMMARY:Facilitator Coaching Office Hours
CLASS:PUBLIC
DESCRIPTION:https://calendify.com/session/P2ROeRVBMQW
DTSTAMP:20260420T215509Z
CREATED:20210426T094931Z
LAST-MODIFIED:20210426T094931Z
END:VEVENT
END:VCALENDAR