BEGIN:VCALENDAR
VERSION:2.0
PRODID:calendify.com
BEGIN:VEVENT
UID:calendify-session-P2ROeRaWMQW
DTSTART:20211228T170000Z
SEQUENCE:0
TRANSP:OPAQUE
DTEND:20211228T180000Z
URL:https://calendify.com/session/P2ROeRaWMQW
LOCATION:Lichtung
SUMMARY:Deine Software\, die Sicherheitslücken und ich
CLASS:PUBLIC
DESCRIPTION:https://calendify.com/session/P2ROeRaWMQW
DTSTAMP:20260420T095205Z
CREATED:20211220T014017Z
LAST-MODIFIED:20211230T225002Z
END:VEVENT
END:VCALENDAR