BEGIN:VCALENDAR
VERSION:2.0
PRODID:calendify.com
BEGIN:VEVENT
UID:calendify-session-P2ROeRl6MQW
DTSTART:20220206T133000Z
SEQUENCE:0
TRANSP:OPAQUE
DTEND:20220206T140000Z
URL:https://calendify.com/session/P2ROeRl6MQW
LOCATION:D.web3
SUMMARY:Swarm\, what's in it for me?
CLASS:PUBLIC
DESCRIPTION:https://calendify.com/session/P2ROeRl6MQW
DTSTAMP:20260420T132221Z
CREATED:20220120T214604Z
LAST-MODIFIED:20220206T225004Z
END:VEVENT
END:VCALENDAR