BEGIN:VCALENDAR
VERSION:2.0
PRODID:calendify.com
BEGIN:VEVENT
UID:calendify-session-P2ROeRyoMQW
DTSTART:20210311T201500Z
SEQUENCE:0
TRANSP:OPAQUE
DTEND:20210311T211500Z
URL:https://calendify.com/session/P2ROeRyoMQW
LOCATION:Zoom Room 1A
SUMMARY:Feminist Futures
CLASS:PUBLIC
DESCRIPTION:https://calendify.com/session/P2ROeRyoMQW
DTSTAMP:20260422T135403Z
CREATED:20210426T094927Z
LAST-MODIFIED:20210426T094927Z
END:VEVENT
END:VCALENDAR