BEGIN:VCALENDAR
VERSION:2.0
PRODID:calendify.com
BEGIN:VEVENT
UID:calendify-session-P2ROeV87MQW
DTSTART:20230903T091000Z
SEQUENCE:0
TRANSP:OPAQUE
DTEND:20230903T100000Z
URL:https://calendify.com/session/P2ROeV87MQW
LOCATION:C205 - Gehirnwäscher
SUMMARY:Der Staat ist keine schwäbische Hausfrau
CLASS:PUBLIC
DESCRIPTION:https://calendify.com/session/P2ROeV87MQW
DTSTAMP:20260422T182344Z
CREATED:20240328T132702Z
LAST-MODIFIED:20240328T132702Z
END:VEVENT
END:VCALENDAR