BEGIN:VCALENDAR
VERSION:2.0
PRODID:calendify.com
BEGIN:VEVENT
UID:calendify-session-P2ROeVrmMQW
DTSTART:20231229T220000Z
SEQUENCE:0
TRANSP:OPAQUE
DTEND:20231229T224000Z
URL:https://calendify.com/session/P2ROeVrmMQW
LOCATION:Saal Granville
SUMMARY:Breathing Life into Legacy: An Open-Source Emulator of Legacy Apple
  Devices
CLASS:PUBLIC
DESCRIPTION:https://calendify.com/session/P2ROeVrmMQW
DTSTAMP:20260423T003318Z
CREATED:20231226T213002Z
LAST-MODIFIED:20240401T142932Z
END:VEVENT
END:VCALENDAR