BEGIN:VCALENDAR
VERSION:2.0
PRODID:calendify.com
BEGIN:VEVENT
UID:calendify-session-P2ROeVxzMQW
DTSTART:20231228T120000Z
SEQUENCE:0
TRANSP:OPAQUE
DTEND:20231228T133000Z
URL:https://calendify.com/session/P2ROeVxzMQW
LOCATION:Sendezentrum Podcast Table (X12)
SUMMARY:JHT: Podcasting für Einsteiger:innen 2
CLASS:PUBLIC
DESCRIPTION:https://calendify.com/session/P2ROeVxzMQW
DTSTAMP:20260422T065540Z
CREATED:20231220T100102Z
LAST-MODIFIED:20240401T142932Z
END:VEVENT
END:VCALENDAR