BEGIN:VCALENDAR
VERSION:2.0
PRODID:calendify.com
BEGIN:VEVENT
UID:calendify-session-P2ROeW7qgQW
DTSTART:20190601T201500Z
SEQUENCE:0
TRANSP:OPAQUE
DTEND:20190601T211500Z
URL:https://calendify.com/session/P2ROeW7qgQW
LOCATION:ZKM_CodeHUB
SUMMARY:Technik Camp am Bodensee - Planung
CLASS:PUBLIC
DESCRIPTION:https://calendify.com/session/P2ROeW7qgQW
DTSTAMP:20260423T203447Z
CREATED:20200509T115127Z
LAST-MODIFIED:20200509T115127Z
END:VEVENT
END:VCALENDAR