BEGIN:VCALENDAR
VERSION:2.0
PRODID:calendify.com
BEGIN:VEVENT
UID:calendify-session-P2ROeW8ogQW
DTSTART:20200202T081000Z
SEQUENCE:0
TRANSP:OPAQUE
DTEND:20200202T085500Z
URL:https://calendify.com/session/P2ROeW8ogQW
LOCATION:AW1.121
SUMMARY:Orchestrating jails with nomad and pot
CLASS:PUBLIC
DESCRIPTION:https://calendify.com/session/P2ROeW8ogQW
DTSTAMP:20260422T122503Z
CREATED:20200513T234734Z
LAST-MODIFIED:20210426T093310Z
END:VEVENT
END:VCALENDAR