BEGIN:VCALENDAR
VERSION:2.0
PRODID:calendify.com
BEGIN:VEVENT
UID:calendify-session-P2ROeWL0gQW
DTSTART:20180512T200000Z
SEQUENCE:0
TRANSP:OPAQUE
DTEND:20180512T220000Z
URL:https://calendify.com/session/P2ROeWL0gQW
LOCATION:HfG_Studio
SUMMARY:Demoshow Übertragung
CLASS:PUBLIC
DESCRIPTION:https://calendify.com/session/P2ROeWL0gQW
DTSTAMP:20260422T014556Z
CREATED:20200513T011828Z
LAST-MODIFIED:20200513T011828Z
END:VEVENT
END:VCALENDAR