BEGIN:VCALENDAR
VERSION:2.0
PRODID:calendify.com
BEGIN:VEVENT
UID:calendify-session-P2ROeXX64QW
DTSTART:20240920T171000Z
SEQUENCE:0
TRANSP:OPAQUE
DTEND:20240920T175500Z
URL:https://calendify.com/session/P2ROeXX64QW
LOCATION:Henny Brenner Saal
SUMMARY:Die FSFW Schul-\, Uni- und Makersticks
CLASS:PUBLIC
DESCRIPTION:https://calendify.com/session/P2ROeXX64QW
DTSTAMP:20260420T215703Z
CREATED:20241208T220338Z
LAST-MODIFIED:20241208T220338Z
END:VEVENT
END:VCALENDAR