BEGIN:VCALENDAR
VERSION:2.0
PRODID:calendify.com
BEGIN:VEVENT
UID:calendify-session-P2ROej2WMQW
DTSTART:20210207T151000Z
SEQUENCE:0
TRANSP:OPAQUE
DTEND:20210207T154000Z
URL:https://calendify.com/session/P2ROej2WMQW
LOCATION:D.radio
SUMMARY:Vector Optimized Library of Kernels
CLASS:PUBLIC
DESCRIPTION:https://calendify.com/session/P2ROej2WMQW
DTSTAMP:20260419T210910Z
CREATED:20210112T232157Z
LAST-MODIFIED:20210208T224804Z
END:VEVENT
END:VCALENDAR