BEGIN:VCALENDAR
VERSION:2.0
PRODID:calendify.com
BEGIN:VEVENT
UID:calendify-session-P2ROejBzMQW
DTSTART:20201228T110000Z
SEQUENCE:0
TRANSP:OPAQUE
DTEND:20201228T120000Z
URL:https://calendify.com/session/P2ROejBzMQW
LOCATION:ChaosTrawler
SUMMARY:Access to Tools (in Graphic design)
CLASS:PUBLIC
DESCRIPTION:https://calendify.com/session/P2ROejBzMQW
DTSTAMP:20260420T143027Z
CREATED:20210114T033302Z
LAST-MODIFIED:20211226T145759Z
END:VEVENT
END:VCALENDAR