BEGIN:VCALENDAR
VERSION:2.0
PRODID:calendify.com
BEGIN:VEVENT
UID:calendify-session-P2ROejX7MQW
DTSTART:20210207T150500Z
SEQUENCE:0
TRANSP:OPAQUE
DTEND:20210207T155000Z
URL:https://calendify.com/session/P2ROejX7MQW
LOCATION:D.community
SUMMARY:Strengthening Developer Communities in mid of pandemic
CLASS:PUBLIC
DESCRIPTION:https://calendify.com/session/P2ROejX7MQW
DTSTAMP:20260423T083252Z
CREATED:20210111T170319Z
LAST-MODIFIED:20210208T224803Z
END:VEVENT
END:VCALENDAR