BEGIN:VCALENDAR
VERSION:2.0
PRODID:calendify.com
BEGIN:VEVENT
UID:calendify-session-P2ROejaqMQW
DTSTART:20210207T141000Z
SEQUENCE:0
TRANSP:OPAQUE
DTEND:20210207T150500Z
URL:https://calendify.com/session/P2ROejaqMQW
LOCATION:D.blockchain
SUMMARY:Holochain Playtime!
CLASS:PUBLIC
DESCRIPTION:https://calendify.com/session/P2ROejaqMQW
DTSTAMP:20260419T151613Z
CREATED:20210119T190820Z
LAST-MODIFIED:20210208T224803Z
END:VEVENT
END:VCALENDAR