BEGIN:VCALENDAR
VERSION:2.0
PRODID:calendify.com
BEGIN:VEVENT
UID:calendify-session-P2ROejblMQW
DTSTART:20210207T093000Z
SEQUENCE:0
TRANSP:OPAQUE
DTEND:20210207T100000Z
URL:https://calendify.com/session/P2ROejblMQW
LOCATION:D.postgresql
SUMMARY:Speed up the JSONB.
CLASS:PUBLIC
DESCRIPTION:https://calendify.com/session/P2ROejblMQW
DTSTAMP:20260420T135436Z
CREATED:20210111T170320Z
LAST-MODIFIED:20210208T224804Z
END:VEVENT
END:VCALENDAR