BEGIN:VCALENDAR
VERSION:2.0
PRODID:calendify.com
BEGIN:VEVENT
UID:calendify-session-P2ROejm0MQW
DTSTART:20210206T111000Z
SEQUENCE:0
TRANSP:OPAQUE
DTEND:20210206T113500Z
URL:https://calendify.com/session/P2ROejm0MQW
LOCATION:D.mariadb
SUMMARY:Mariabackup - too rarely used
CLASS:PUBLIC
DESCRIPTION:https://calendify.com/session/P2ROejm0MQW
DTSTAMP:20260420T031444Z
CREATED:20210111T170319Z
LAST-MODIFIED:20210208T224802Z
END:VEVENT
END:VCALENDAR