BEGIN:VCALENDAR
VERSION:2.0
PRODID:calendify.com
BEGIN:VEVENT
UID:calendify-session-P2ROejnJMQW
DTSTART:20210207T153000Z
SEQUENCE:0
TRANSP:OPAQUE
DTEND:20210207T160000Z
URL:https://calendify.com/session/P2ROejnJMQW
LOCATION:D.hpc
SUMMARY:Open Source HPC Research Tools at the Institute for Scientific Comp
 uting
CLASS:PUBLIC
DESCRIPTION:https://calendify.com/session/P2ROejnJMQW
DTSTAMP:20260423T082330Z
CREATED:20210111T170320Z
LAST-MODIFIED:20210208T224804Z
END:VEVENT
END:VCALENDAR