BEGIN:VCALENDAR
VERSION:2.0
PRODID:calendify.com
BEGIN:VEVENT
UID:calendify-session-P2ROejoBMQW
DTSTART:20210207T120000Z
SEQUENCE:0
TRANSP:OPAQUE
DTEND:20210207T124500Z
URL:https://calendify.com/session/P2ROejoBMQW
LOCATION:S.checkmk
SUMMARY:Checkmk Technical Demo
CLASS:PUBLIC
DESCRIPTION:https://calendify.com/session/P2ROejoBMQW
DTSTAMP:20260423T133658Z
CREATED:20210205T060305Z
LAST-MODIFIED:20210208T224804Z
END:VEVENT
END:VCALENDAR