BEGIN:VCALENDAR
VERSION:2.0
PRODID:calendify.com
BEGIN:VEVENT
UID:calendify-session-P2ROejrmMQW
DTSTART:20210207T120000Z
SEQUENCE:0
TRANSP:OPAQUE
DTEND:20210207T123000Z
URL:https://calendify.com/session/P2ROejrmMQW
LOCATION:D.monitoring
SUMMARY:Performance Analysis and Troubleshooting Methodologies for Database
 s
CLASS:PUBLIC
DESCRIPTION:https://calendify.com/session/P2ROejrmMQW
DTSTAMP:20260420T134719Z
CREATED:20210125T190822Z
LAST-MODIFIED:20210208T224804Z
END:VEVENT
END:VCALENDAR