BEGIN:VCALENDAR
VERSION:2.0
PRODID:calendify.com
BEGIN:VEVENT
UID:calendify-session-P2ROemDWOQW
DTSTART:20220415T180000Z
SEQUENCE:0
TRANSP:OPAQUE
DTEND:20220415T184500Z
URL:https://calendify.com/session/P2ROemDWOQW
LOCATION:Mainstream
SUMMARY:creative bubbles - betalars meets dj-spock
CLASS:PUBLIC
DESCRIPTION:https://calendify.com/session/P2ROemDWOQW
DTSTAMP:20260420T153208Z
CREATED:20220407T162546Z
LAST-MODIFIED:20220416T215002Z
END:VEVENT
END:VCALENDAR