BEGIN:VCALENDAR
VERSION:2.0
PRODID:calendify.com
BEGIN:VEVENT
UID:calendify-session-P2ROemGlOQW
DTSTART:20220610T091500Z
SEQUENCE:0
TRANSP:OPAQUE
DTEND:20220610T101500Z
URL:https://calendify.com/session/P2ROemGlOQW
LOCATION:Makerspace
SUMMARY:Spotlight for Critical Making – an approach towards better educat
 ion?
CLASS:PUBLIC
DESCRIPTION:https://calendify.com/session/P2ROemGlOQW
DTSTAMP:20260420T220516Z
CREATED:20220526T162947Z
LAST-MODIFIED:20220613T235204Z
END:VEVENT
END:VCALENDAR