BEGIN:VCALENDAR
VERSION:2.0
PRODID:calendify.com
BEGIN:VEVENT
UID:calendify-session-P2ROemPJOQW
DTSTART:20220206T133000Z
SEQUENCE:0
TRANSP:OPAQUE
DTEND:20220206T141500Z
URL:https://calendify.com/session/P2ROemPJOQW
LOCATION:D.mysql
SUMMARY:Newest MySQL component services features
CLASS:PUBLIC
DESCRIPTION:https://calendify.com/session/P2ROemPJOQW
DTSTAMP:20260422T135530Z
CREATED:20220120T214609Z
LAST-MODIFIED:20220206T225004Z
END:VEVENT
END:VCALENDAR