BEGIN:VCALENDAR
VERSION:2.0
PRODID:calendify.com
BEGIN:VEVENT
UID:calendify-session-P2ROemVqOQW
DTSTART:20161229T223000Z
SEQUENCE:0
TRANSP:OPAQUE
DTEND:20161229T230000Z
URL:https://calendify.com/session/P2ROemVqOQW
LOCATION:Saal 2
SUMMARY:The Zcash anonymous cryptocurrency
CLASS:PUBLIC
DESCRIPTION:https://calendify.com/session/P2ROemVqOQW
DTSTAMP:20260422T152940Z
CREATED:20220415T135303Z
LAST-MODIFIED:20220415T135303Z
END:VEVENT
END:VCALENDAR