BEGIN:VCALENDAR
VERSION:2.0
PRODID:calendify.com
BEGIN:VEVENT
UID:calendify-session-P2ROema7OQW
DTSTART:20220608T164500Z
SEQUENCE:0
TRANSP:OPAQUE
DTEND:20220608T171500Z
URL:https://calendify.com/session/P2ROema7OQW
LOCATION:Lightning Box 1
SUMMARY:Disclosive Ethics and the Platform Economy: Making the Ethics and P
 olitics of Platform Cooperatives Visible
CLASS:PUBLIC
DESCRIPTION:https://calendify.com/session/P2ROema7OQW
DTSTAMP:20260423T145540Z
CREATED:20220526T162944Z
LAST-MODIFIED:20220613T235204Z
END:VEVENT
END:VCALENDAR