BEGIN:VCALENDAR
VERSION:2.0
PRODID:calendify.com
BEGIN:VEVENT
UID:calendify-session-P2ROemdWOQW
DTSTART:20220610T141000Z
SEQUENCE:0
TRANSP:OPAQUE
DTEND:20220610T144000Z
URL:https://calendify.com/session/P2ROemdWOQW
LOCATION:Stage 5
SUMMARY:Become an influencer for ecological change!
CLASS:PUBLIC
DESCRIPTION:https://calendify.com/session/P2ROemdWOQW
DTSTAMP:20260421T145536Z
CREATED:20220526T162948Z
LAST-MODIFIED:20220613T235204Z
END:VEVENT
END:VCALENDAR