BEGIN:VCALENDAR
VERSION:2.0
PRODID:calendify.com
BEGIN:VEVENT
UID:calendify-session-P2ROemlqOQW
DTSTART:20220722T194000Z
SEQUENCE:0
TRANSP:OPAQUE
DTEND:20220722T203000Z
URL:https://calendify.com/session/P2ROemlqOQW
LOCATION:Clairvoyance 🔮
SUMMARY:M̶a̶y̶  Will Contain Climate Change
CLASS:PUBLIC
DESCRIPTION:https://calendify.com/session/P2ROemlqOQW
DTSTAMP:20260423T191502Z
CREATED:20220620T212434Z
LAST-MODIFIED:20220726T182703Z
END:VEVENT
END:VCALENDAR