BEGIN:VCALENDAR
VERSION:2.0
PRODID:calendify.com
BEGIN:VEVENT
UID:calendify-session-P2ROemmoOQW
DTSTART:20161227T180000Z
SEQUENCE:0
TRANSP:OPAQUE
DTEND:20161227T183000Z
URL:https://calendify.com/session/P2ROemmoOQW
LOCATION:Saal 1
SUMMARY:Dieselgate – A year later
CLASS:PUBLIC
DESCRIPTION:https://calendify.com/session/P2ROemmoOQW
DTSTAMP:20260420T123438Z
CREATED:20220415T135302Z
LAST-MODIFIED:20220415T135302Z
END:VEVENT
END:VCALENDAR