BEGIN:VCALENDAR
VERSION:2.0
PRODID:calendify.com
BEGIN:VEVENT
UID:calendify-session-P2ROenBBMQW
DTSTART:20260201T110500Z
SEQUENCE:0
TRANSP:OPAQUE
DTEND:20260201T113000Z
URL:https://calendify.com/session/P2ROenBBMQW
LOCATION:H.2214
SUMMARY:Credentials for Linux: Bringing Passkeys to the Linux desktop
CLASS:PUBLIC
DESCRIPTION:https://calendify.com/session/P2ROenBBMQW
DTSTAMP:20260424T072445Z
CREATED:20260131T063315Z
LAST-MODIFIED:20260201T163231Z
END:VEVENT
END:VCALENDAR