BEGIN:VCALENDAR
VERSION:2.0
PRODID:calendify.com
BEGIN:VEVENT
UID:calendify-session-PeR4012mO3j
DTSTART:20230715T093000Z
SEQUENCE:0
TRANSP:OPAQUE
DTEND:20230715T103000Z
URL:https://calendify.com/session/PeR4012mO3j
LOCATION:Raum 1.7
SUMMARY:Let's talk about JSON
CLASS:PUBLIC
DESCRIPTION:https://calendify.com/session/PeR4012mO3j
DTSTAMP:20260422T083902Z
CREATED:20230806T113150Z
LAST-MODIFIED:20230806T113150Z
END:VEVENT
END:VCALENDAR