BEGIN:VCALENDAR
VERSION:2.0
PRODID:calendify.com
BEGIN:VEVENT
UID:calendify-session-PeR401KmO3j
DTSTART:20231230T030000Z
SEQUENCE:0
TRANSP:OPAQUE
DTEND:20231230T050000Z
URL:https://calendify.com/session/PeR401KmO3j
LOCATION:Lounge
SUMMARY:Ratkat
CLASS:PUBLIC
DESCRIPTION:https://calendify.com/session/PeR401KmO3j
DTSTAMP:20260423T003733Z
CREATED:20231228T212002Z
LAST-MODIFIED:20240401T142932Z
END:VEVENT
END:VCALENDAR