BEGIN:VCALENDAR
VERSION:2.0
PRODID:calendify.com
BEGIN:VEVENT
UID:calendify-session-PeR401PYO3j
DTSTART:20240601T084500Z
SEQUENCE:0
TRANSP:OPAQUE
DTEND:20240601T094500Z
URL:https://calendify.com/session/PeR401PYO3j
LOCATION:ZKM Medientheater
SUMMARY:Von Nix kommt Nix
CLASS:PUBLIC
DESCRIPTION:https://calendify.com/session/PeR401PYO3j
DTSTAMP:20260422T153407Z
CREATED:20240531T122740Z
LAST-MODIFIED:20240602T132303Z
END:VEVENT
END:VCALENDAR