BEGIN:VCALENDAR
VERSION:2.0
PRODID:calendify.com
BEGIN:VEVENT
UID:calendify-session-PeR401nlO3j
DTSTART:20230902T180000Z
SEQUENCE:0
TRANSP:OPAQUE
DTEND:20230902T190000Z
URL:https://calendify.com/session/PeR401nlO3j
LOCATION:C205 - Gehirnwäscher
SUMMARY:Powerpoint Karaoke
CLASS:PUBLIC
DESCRIPTION:https://calendify.com/session/PeR401nlO3j
DTSTAMP:20260422T183049Z
CREATED:20240328T132702Z
LAST-MODIFIED:20240328T132702Z
END:VEVENT
END:VCALENDAR