BEGIN:VCALENDAR
VERSION:2.0
PRODID:calendify.com
BEGIN:VEVENT
UID:calendify-session-PeR402K8M3j
DTSTART:20200201T110000Z
SEQUENCE:0
TRANSP:OPAQUE
DTEND:20200201T112500Z
URL:https://calendify.com/session/PeR402K8M3j
LOCATION:UB4.136
SUMMARY:LibreOffice lockdown and encryption improvements
CLASS:PUBLIC
DESCRIPTION:https://calendify.com/session/PeR402K8M3j
DTSTAMP:20260421T053236Z
CREATED:20200513T234730Z
LAST-MODIFIED:20210426T093308Z
END:VEVENT
END:VCALENDAR