BEGIN:VCALENDAR
VERSION:2.0
PRODID:calendify.com
BEGIN:VEVENT
UID:calendify-session-PeR402qBM3j
DTSTART:20190601T161500Z
SEQUENCE:0
TRANSP:OPAQUE
DTEND:20190601T164500Z
URL:https://calendify.com/session/PeR402qBM3j
LOCATION:ZKM_Vortragssaal
SUMMARY:Nur ein Fauler Admin ist ein guter Admin
CLASS:PUBLIC
DESCRIPTION:https://calendify.com/session/PeR402qBM3j
DTSTAMP:20260422T164552Z
CREATED:20200509T115122Z
LAST-MODIFIED:20200509T115122Z
END:VEVENT
END:VCALENDAR