BEGIN:VCALENDAR
VERSION:2.0
PRODID:calendify.com
BEGIN:VEVENT
UID:calendify-session-PeR402rBM3j
DTSTART:20190531T113000Z
SEQUENCE:0
TRANSP:OPAQUE
DTEND:20190531T123000Z
URL:https://calendify.com/session/PeR402rBM3j
LOCATION:ZKM_AckerSpace
SUMMARY:Lötworkshop für Anfänger
CLASS:PUBLIC
DESCRIPTION:https://calendify.com/session/PeR402rBM3j
DTSTAMP:20260423T161313Z
CREATED:20200509T115107Z
LAST-MODIFIED:20200509T115107Z
END:VEVENT
END:VCALENDAR