BEGIN:VCALENDAR
VERSION:2.0
PRODID:calendify.com
BEGIN:VEVENT
UID:calendify-session-PeR402xwM3j
DTSTART:20200201T122000Z
SEQUENCE:0
TRANSP:OPAQUE
DTEND:20200201T125500Z
URL:https://calendify.com/session/PeR402xwM3j
LOCATION:UA2.118 (Henriot)
SUMMARY:Quantum Advantage and Quantum Computing in the Real World
CLASS:PUBLIC
DESCRIPTION:https://calendify.com/session/PeR402xwM3j
DTSTAMP:20260423T161317Z
CREATED:20200513T234730Z
LAST-MODIFIED:20210426T093308Z
END:VEVENT
END:VCALENDAR