BEGIN:VCALENDAR
VERSION:2.0
PRODID:calendify.com
BEGIN:VEVENT
UID:calendify-session-PeR402zlM3j
DTSTART:20200201T112000Z
SEQUENCE:0
TRANSP:OPAQUE
DTEND:20200201T120000Z
URL:https://calendify.com/session/PeR402zlM3j
LOCATION:H.1302 (Depage)
SUMMARY:ByteBuffers are dead\, long live ByteBuffers!
CLASS:PUBLIC
DESCRIPTION:https://calendify.com/session/PeR402zlM3j
DTSTAMP:20260424T064026Z
CREATED:20200513T234730Z
LAST-MODIFIED:20210426T093308Z
END:VEVENT
END:VCALENDAR