BEGIN:VCALENDAR
VERSION:2.0
PRODID:calendify.com
BEGIN:VEVENT
UID:calendify-session-PeR40AZBO3j
DTSTART:20260131T144500Z
SEQUENCE:0
TRANSP:OPAQUE
DTEND:20260131T161500Z
URL:https://calendify.com/session/PeR40AZBO3j
LOCATION:UD6.203
SUMMARY:The Well-Tempered Noise - Compute Music from Everyday Sounds in Sna
 p!
CLASS:PUBLIC
DESCRIPTION:https://calendify.com/session/PeR40AZBO3j
DTSTAMP:20260423T133948Z
CREATED:20260131T063309Z
LAST-MODIFIED:20260201T163231Z
END:VEVENT
END:VCALENDAR