BEGIN:VCALENDAR
VERSION:2.0
PRODID:calendify.com
BEGIN:VEVENT
UID:calendify-session-PeR40L2B43j
DTSTART:20210312T144500Z
SEQUENCE:0
TRANSP:OPAQUE
DTEND:20210312T154500Z
URL:https://calendify.com/session/PeR40L2B43j
LOCATION:Zoom Room 1B
SUMMARY:Game Design for NeuroDiversity
CLASS:PUBLIC
DESCRIPTION:https://calendify.com/session/PeR40L2B43j
DTSTAMP:20260423T115043Z
CREATED:20210426T094928Z
LAST-MODIFIED:20210426T094928Z
END:VEVENT
END:VCALENDAR