BEGIN:VCALENDAR
VERSION:2.0
PRODID:calendify.com
BEGIN:VEVENT
UID:calendify-session-PeR40LAx43j
DTSTART:20210522T143000Z
SEQUENCE:0
TRANSP:OPAQUE
DTEND:20210522T145500Z
URL:https://calendify.com/session/PeR40LAx43j
LOCATION:TINCON
SUMMARY:Was Insta mit unserer Psyche macht - Pandemie Edition
CLASS:PUBLIC
DESCRIPTION:https://calendify.com/session/PeR40LAx43j
DTSTAMP:20260422T233020Z
CREATED:20210510T145032Z
LAST-MODIFIED:20210524T215002Z
END:VEVENT
END:VCALENDAR