BEGIN:VCALENDAR
VERSION:2.0
PRODID:calendify.com
BEGIN:VEVENT
UID:calendify-session-PeR40LEE43j
DTSTART:20210308T133000Z
SEQUENCE:0
TRANSP:OPAQUE
DTEND:20210308T143000Z
URL:https://calendify.com/session/PeR40LEE43j
LOCATION:Zoom Room 2A
SUMMARY:Exploring Coding Stitching Culture.
CLASS:PUBLIC
DESCRIPTION:https://calendify.com/session/PeR40LEE43j
DTSTAMP:20260420T174211Z
CREATED:20210426T094926Z
LAST-MODIFIED:20210426T094926Z
END:VEVENT
END:VCALENDAR