BEGIN:VCALENDAR
VERSION:2.0
PRODID:calendify.com
BEGIN:VEVENT
UID:calendify-session-PeR40LV243j
DTSTART:20210317T181500Z
SEQUENCE:0
TRANSP:OPAQUE
DTEND:20210317T191500Z
URL:https://calendify.com/session/PeR40LV243j
LOCATION:Zoom Room 6B
SUMMARY:Reclaiming faces and digital spaces: join the #ReclaimYourFace coal
 ition!
CLASS:PUBLIC
DESCRIPTION:https://calendify.com/session/PeR40LV243j
DTSTAMP:20260422T140603Z
CREATED:20210426T094929Z
LAST-MODIFIED:20210426T094929Z
END:VEVENT
END:VCALENDAR