BEGIN:VCALENDAR
VERSION:2.0
PRODID:calendify.com
BEGIN:VEVENT
UID:calendify-session-PeR40LW243j
DTSTART:20220205T164000Z
SEQUENCE:0
TRANSP:OPAQUE
DTEND:20220205T170000Z
URL:https://calendify.com/session/PeR40LW243j
LOCATION:D.research
SUMMARY:Open Data Panel
CLASS:PUBLIC
DESCRIPTION:https://calendify.com/session/PeR40LW243j
DTSTAMP:20260419T133736Z
CREATED:20220120T214603Z
LAST-MODIFIED:20220206T225003Z
END:VEVENT
END:VCALENDAR